

BEGIN:VCALENDAR
VERSION:2.0
PRODID:-//Conseil National de l&#039;Alimentation - ECPv6.15.20//NONSGML v1.0//EN
CALSCALE:GREGORIAN
METHOD:PUBLISH
X-WR-CALNAME:Conseil National de l&#039;Alimentation
X-ORIGINAL-URL:https://cna-alimentation.fr
X-WR-CALDESC:Évènements pour Conseil National de l&#039;Alimentation
REFRESH-INTERVAL;VALUE=DURATION:PT1H
X-Robots-Tag:noindex
X-PUBLISHED-TTL:PT1H
BEGIN:VTIMEZONE
TZID:Europe/Paris
BEGIN:DAYLIGHT
TZOFFSETFROM:+0100
TZOFFSETTO:+0200
TZNAME:CEST
DTSTART:20200329T010000
END:DAYLIGHT
BEGIN:STANDARD
TZOFFSETFROM:+0200
TZOFFSETTO:+0100
TZNAME:CET
DTSTART:20201025T010000
END:STANDARD
BEGIN:DAYLIGHT
TZOFFSETFROM:+0100
TZOFFSETTO:+0200
TZNAME:CEST
DTSTART:20210328T010000
END:DAYLIGHT
BEGIN:STANDARD
TZOFFSETFROM:+0200
TZOFFSETTO:+0100
TZNAME:CET
DTSTART:20211031T010000
END:STANDARD
BEGIN:DAYLIGHT
TZOFFSETFROM:+0100
TZOFFSETTO:+0200
TZNAME:CEST
DTSTART:20220327T010000
END:DAYLIGHT
BEGIN:STANDARD
TZOFFSETFROM:+0200
TZOFFSETTO:+0100
TZNAME:CET
DTSTART:20221030T010000
END:STANDARD
END:VTIMEZONE
BEGIN:VEVENT
DTSTART;TZID=Europe/Paris:20211117T100000
DTEND;TZID=Europe/Paris:20211117T110000
DTSTAMP:20260422T215020
CREATED:20211110T084923Z
LAST-MODIFIED:20211110T084923Z
UID:3908-1637143200-1637146800@cna-alimentation.fr
SUMMARY:[Webinaire] Alimentation à l’hôpital : les suites de l’avis n°78 du CNA
DESCRIPTION:Intervenant(s) : Pr Jean-Louis Bresson (hôpital Necker) ; Frédéric Descrozaille\, députe du Val de Marne\,\nOrganisateurs : CNA et collectif de lutte contre la dénutrition \nThèmes et objectifs : \n    Alimentation à l’hôpital > exposé de ce que dit l’Avis 78\n    Présentation de repas à l’hôpital > Action menée à la suite des recommandations faites dans l’avis > objectif d’améliorer la qualité des repas à l’hôpital
URL:https://cna-alimentation.fr/event/webinaire-alimentation-a-lhopital-les-suites-de-lavis-n78-du-cna/
LOCATION:En visio
CATEGORIES:Suivi des avis
END:VEVENT
END:VCALENDAR