

BEGIN:VCALENDAR
VERSION:2.0
PRODID:-//Conseil National de l&#039;Alimentation - ECPv6.15.20//NONSGML v1.0//EN
CALSCALE:GREGORIAN
METHOD:PUBLISH
X-ORIGINAL-URL:https://cna-alimentation.fr
X-WR-CALDESC:Évènements pour Conseil National de l&#039;Alimentation
REFRESH-INTERVAL;VALUE=DURATION:PT1H
X-Robots-Tag:noindex
X-PUBLISHED-TTL:PT1H
BEGIN:VTIMEZONE
TZID:Europe/Paris
BEGIN:DAYLIGHT
TZOFFSETFROM:+0100
TZOFFSETTO:+0200
TZNAME:CEST
DTSTART:20240331T010000
END:DAYLIGHT
BEGIN:STANDARD
TZOFFSETFROM:+0200
TZOFFSETTO:+0100
TZNAME:CET
DTSTART:20241027T010000
END:STANDARD
BEGIN:DAYLIGHT
TZOFFSETFROM:+0100
TZOFFSETTO:+0200
TZNAME:CEST
DTSTART:20250330T010000
END:DAYLIGHT
BEGIN:STANDARD
TZOFFSETFROM:+0200
TZOFFSETTO:+0100
TZNAME:CET
DTSTART:20251026T010000
END:STANDARD
BEGIN:DAYLIGHT
TZOFFSETFROM:+0100
TZOFFSETTO:+0200
TZNAME:CEST
DTSTART:20260329T010000
END:DAYLIGHT
BEGIN:STANDARD
TZOFFSETFROM:+0200
TZOFFSETTO:+0100
TZNAME:CET
DTSTART:20261025T010000
END:STANDARD
END:VTIMEZONE
BEGIN:VEVENT
DTSTART;TZID=Europe/Paris:20250625T140000
DTEND;TZID=Europe/Paris:20250625T170000
DTSTAMP:20260419T145519
CREATED:20250219T104707Z
LAST-MODIFIED:20250219T104707Z
UID:8679-1750860000-1750870800@cna-alimentation.fr
SUMMARY:Réunion du CNEAb
DESCRIPTION:
URL:https://cna-alimentation.fr/event/reunion-du-cneab-6/
CATEGORIES:Groupes de concertation
END:VEVENT
END:VCALENDAR