

BEGIN:VCALENDAR
VERSION:2.0
PRODID:-//Conseil National de l&#039;Alimentation - ECPv6.15.20//NONSGML v1.0//EN
CALSCALE:GREGORIAN
METHOD:PUBLISH
X-ORIGINAL-URL:https://cna-alimentation.fr
X-WR-CALDESC:Évènements pour Conseil National de l&#039;Alimentation
REFRESH-INTERVAL;VALUE=DURATION:PT1H
X-Robots-Tag:noindex
X-PUBLISHED-TTL:PT1H
BEGIN:VTIMEZONE
TZID:Europe/Paris
BEGIN:DAYLIGHT
TZOFFSETFROM:+0100
TZOFFSETTO:+0200
TZNAME:CEST
DTSTART:20190331T010000
END:DAYLIGHT
BEGIN:STANDARD
TZOFFSETFROM:+0200
TZOFFSETTO:+0100
TZNAME:CET
DTSTART:20191027T010000
END:STANDARD
BEGIN:DAYLIGHT
TZOFFSETFROM:+0100
TZOFFSETTO:+0200
TZNAME:CEST
DTSTART:20200329T010000
END:DAYLIGHT
BEGIN:STANDARD
TZOFFSETFROM:+0200
TZOFFSETTO:+0100
TZNAME:CET
DTSTART:20201025T010000
END:STANDARD
BEGIN:DAYLIGHT
TZOFFSETFROM:+0100
TZOFFSETTO:+0200
TZNAME:CEST
DTSTART:20210328T010000
END:DAYLIGHT
BEGIN:STANDARD
TZOFFSETFROM:+0200
TZOFFSETTO:+0100
TZNAME:CET
DTSTART:20211031T010000
END:STANDARD
END:VTIMEZONE
BEGIN:VEVENT
DTSTART;VALUE=DATE:20200423
DTEND;VALUE=DATE:20200424
DTSTAMP:20260423T223513
CREATED:20200421T142202Z
LAST-MODIFIED:20200421T142202Z
UID:3178-1587600000-1587686399@cna-alimentation.fr
SUMMARY:Concertation sur les dispositifs territoriaux de gouvernance de l'alimentation
DESCRIPTION:
URL:https://cna-alimentation.fr/event/concertation-sur-les-dispositifs-territoriaux-de-gouvernance-de-lalimentation/
CATEGORIES:Groupes de concertation
END:VEVENT
BEGIN:VEVENT
DTSTART;VALUE=DATE:20200430
DTEND;VALUE=DATE:20200501
DTSTAMP:20260423T223513
CREATED:20200410T075511Z
LAST-MODIFIED:20200410T075511Z
UID:3165-1588204800-1588291199@cna-alimentation.fr
SUMMARY:GC Emballages alimentaires
DESCRIPTION:
URL:https://cna-alimentation.fr/event/gc-emballages-alimentaires/
LOCATION:En visio
CATEGORIES:Groupes de concertation
END:VEVENT
END:VCALENDAR