

BEGIN:VCALENDAR
VERSION:2.0
PRODID:-//Conseil National de l&#039;Alimentation - ECPv6.15.20//NONSGML v1.0//EN
CALSCALE:GREGORIAN
METHOD:PUBLISH
X-ORIGINAL-URL:https://cna-alimentation.fr
X-WR-CALDESC:Évènements pour Conseil National de l&#039;Alimentation
REFRESH-INTERVAL;VALUE=DURATION:PT1H
X-Robots-Tag:noindex
X-PUBLISHED-TTL:PT1H
BEGIN:VTIMEZONE
TZID:Europe/Paris
BEGIN:DAYLIGHT
TZOFFSETFROM:+0100
TZOFFSETTO:+0200
TZNAME:CEST
DTSTART:20190331T010000
END:DAYLIGHT
BEGIN:STANDARD
TZOFFSETFROM:+0200
TZOFFSETTO:+0100
TZNAME:CET
DTSTART:20191027T010000
END:STANDARD
BEGIN:DAYLIGHT
TZOFFSETFROM:+0100
TZOFFSETTO:+0200
TZNAME:CEST
DTSTART:20200329T010000
END:DAYLIGHT
BEGIN:STANDARD
TZOFFSETFROM:+0200
TZOFFSETTO:+0100
TZNAME:CET
DTSTART:20201025T010000
END:STANDARD
BEGIN:DAYLIGHT
TZOFFSETFROM:+0100
TZOFFSETTO:+0200
TZNAME:CEST
DTSTART:20210328T010000
END:DAYLIGHT
BEGIN:STANDARD
TZOFFSETFROM:+0200
TZOFFSETTO:+0100
TZNAME:CET
DTSTART:20211031T010000
END:STANDARD
END:VTIMEZONE
BEGIN:VEVENT
DTSTART;VALUE=DATE:20200610
DTEND;VALUE=DATE:20200611
DTSTAMP:20260423T055753
CREATED:20200513T152648Z
LAST-MODIFIED:20200708T083607Z
UID:3201-1591747200-1591833599@cna-alimentation.fr
SUMMARY:GC Étiquetage modes d’élevage
DESCRIPTION:
URL:https://cna-alimentation.fr/event/gc-etiquetage-modes-delevage-2/
CATEGORIES:Groupes de concertation
END:VEVENT
BEGIN:VEVENT
DTSTART;VALUE=DATE:20200611
DTEND;VALUE=DATE:20200612
DTSTAMP:20260423T055753
CREATED:20200506T110650Z
LAST-MODIFIED:20200506T110650Z
UID:3191-1591833600-1591919999@cna-alimentation.fr
SUMMARY:GC Emballages alimentaires
DESCRIPTION:
URL:https://cna-alimentation.fr/event/gc-emballages-alimentaires-3/
CATEGORIES:Groupes de concertation
END:VEVENT
END:VCALENDAR