

BEGIN:VCALENDAR
VERSION:2.0
PRODID:-//Conseil National de l&#039;Alimentation - ECPv6.15.20//NONSGML v1.0//EN
CALSCALE:GREGORIAN
METHOD:PUBLISH
X-ORIGINAL-URL:https://cna-alimentation.fr
X-WR-CALDESC:Évènements pour Conseil National de l&#039;Alimentation
REFRESH-INTERVAL;VALUE=DURATION:PT1H
X-Robots-Tag:noindex
X-PUBLISHED-TTL:PT1H
BEGIN:VTIMEZONE
TZID:Europe/Paris
BEGIN:DAYLIGHT
TZOFFSETFROM:+0100
TZOFFSETTO:+0200
TZNAME:CEST
DTSTART:20190331T010000
END:DAYLIGHT
BEGIN:STANDARD
TZOFFSETFROM:+0200
TZOFFSETTO:+0100
TZNAME:CET
DTSTART:20191027T010000
END:STANDARD
BEGIN:DAYLIGHT
TZOFFSETFROM:+0100
TZOFFSETTO:+0200
TZNAME:CEST
DTSTART:20200329T010000
END:DAYLIGHT
BEGIN:STANDARD
TZOFFSETFROM:+0200
TZOFFSETTO:+0100
TZNAME:CET
DTSTART:20201025T010000
END:STANDARD
BEGIN:DAYLIGHT
TZOFFSETFROM:+0100
TZOFFSETTO:+0200
TZNAME:CEST
DTSTART:20210328T010000
END:DAYLIGHT
BEGIN:STANDARD
TZOFFSETFROM:+0200
TZOFFSETTO:+0100
TZNAME:CET
DTSTART:20211031T010000
END:STANDARD
END:VTIMEZONE
BEGIN:VEVENT
DTSTART;VALUE=DATE:20201104
DTEND;VALUE=DATE:20201105
DTSTAMP:20260420T164600
CREATED:20201009T073053Z
LAST-MODIFIED:20201009T073053Z
UID:3475-1604448000-1604534399@cna-alimentation.fr
SUMMARY:Comité éthique abattoirs
DESCRIPTION:
URL:https://cna-alimentation.fr/event/comite-ethique-abattoirs-2/
CATEGORIES:Groupes de concertation
END:VEVENT
BEGIN:VEVENT
DTSTART;VALUE=DATE:20201106
DTEND;VALUE=DATE:20201107
DTSTAMP:20260420T164600
CREATED:20201014T112646Z
LAST-MODIFIED:20201014T112646Z
UID:3480-1604620800-1604707199@cna-alimentation.fr
SUMMARY:GC Retex Covid-19
DESCRIPTION:
URL:https://cna-alimentation.fr/event/gc-retex-covid-19/
CATEGORIES:Groupes de concertation
END:VEVENT
BEGIN:VEVENT
DTSTART;VALUE=DATE:20201109
DTEND;VALUE=DATE:20201110
DTSTAMP:20260420T164600
CREATED:20200708T083357Z
LAST-MODIFIED:20200708T083357Z
UID:3350-1604880000-1604966399@cna-alimentation.fr
SUMMARY:GC Emballages alimentaires
DESCRIPTION:
URL:https://cna-alimentation.fr/event/gc-emballages-alimentaires-7/
CATEGORIES:Groupes de concertation
END:VEVENT
END:VCALENDAR