

BEGIN:VCALENDAR
VERSION:2.0
PRODID:-//Conseil National de l&#039;Alimentation - ECPv6.15.20//NONSGML v1.0//EN
CALSCALE:GREGORIAN
METHOD:PUBLISH
X-ORIGINAL-URL:https://cna-alimentation.fr
X-WR-CALDESC:Évènements pour Conseil National de l&#039;Alimentation
REFRESH-INTERVAL;VALUE=DURATION:PT1H
X-Robots-Tag:noindex
X-PUBLISHED-TTL:PT1H
BEGIN:VTIMEZONE
TZID:Europe/Paris
BEGIN:DAYLIGHT
TZOFFSETFROM:+0100
TZOFFSETTO:+0200
TZNAME:CEST
DTSTART:20210328T010000
END:DAYLIGHT
BEGIN:STANDARD
TZOFFSETFROM:+0200
TZOFFSETTO:+0100
TZNAME:CET
DTSTART:20211031T010000
END:STANDARD
BEGIN:DAYLIGHT
TZOFFSETFROM:+0100
TZOFFSETTO:+0200
TZNAME:CEST
DTSTART:20220327T010000
END:DAYLIGHT
BEGIN:STANDARD
TZOFFSETFROM:+0200
TZOFFSETTO:+0100
TZNAME:CET
DTSTART:20221030T010000
END:STANDARD
BEGIN:DAYLIGHT
TZOFFSETFROM:+0100
TZOFFSETTO:+0200
TZNAME:CEST
DTSTART:20230326T010000
END:DAYLIGHT
BEGIN:STANDARD
TZOFFSETFROM:+0200
TZOFFSETTO:+0100
TZNAME:CET
DTSTART:20231029T010000
END:STANDARD
END:VTIMEZONE
BEGIN:VEVENT
DTSTART;VALUE=DATE:20220908
DTEND;VALUE=DATE:20220909
DTSTAMP:20260420T200725
CREATED:20220421T105315Z
LAST-MODIFIED:20220516T130306Z
UID:4118-1662595200-1662681599@cna-alimentation.fr
SUMMARY:GC Précarité alimentaire
DESCRIPTION:
URL:https://cna-alimentation.fr/event/gc-precarite-alimentaire-6/
CATEGORIES:Groupes de concertation
END:VEVENT
BEGIN:VEVENT
DTSTART;VALUE=DATE:20220914
DTEND;VALUE=DATE:20220915
DTSTAMP:20260420T200725
CREATED:20220719T092317Z
LAST-MODIFIED:20220719T092317Z
UID:4221-1663113600-1663199999@cna-alimentation.fr
SUMMARY:GC CNEAb
DESCRIPTION:
URL:https://cna-alimentation.fr/event/gc-cneab/
END:VEVENT
BEGIN:VEVENT
DTSTART;VALUE=DATE:20220915
DTEND;VALUE=DATE:20220916
DTSTAMP:20260420T200725
CREATED:20220726T101123Z
LAST-MODIFIED:20220726T101123Z
UID:4230-1663200000-1663286399@cna-alimentation.fr
SUMMARY:GC précarité alimentaire
DESCRIPTION:
URL:https://cna-alimentation.fr/event/gc-precarite-alimentaire-7/
END:VEVENT
END:VCALENDAR